BEGIN:VCALENDAR
VERSION:2.0
PRODID:-//ChamberMaster//Event Calendar 2.0//EN
METHOD:PUBLISH
X-PUBLISHED-TTL:P3D
REFRESH-INTERVAL:P3D
CALSCALE:GREGORIAN
BEGIN:VEVENT
DTSTART;VALUE=DATE:20231101
DTEND;VALUE=DATE:20231201
TRANSP:TRANSPARENT
X-MICROSOFT-CDO-ALLDAYEVENT:TRUE
SUMMARY:Lap Swim Food Drive
DESCRIPTION:Thru the month of November\, MCCPRA will be accepting 2+ canned good items as payment for Lap swim admission. Donations will be given to the Colquitt County food bank.
X-ALT-DESC;FMTTYPE=text/html:Thru the month of November\, MCCPRA will be accepting 2+ canned good items as payment for Lap swim admission. Donations will be given to the Colquitt County food bank.
LOCATION:SW Memorial Pool
UID:e.570.13194
SEQUENCE:3
DTSTAMP:20260424T151725Z
URL:https://business.moultriechamber.com/events/details/lap-swim-food-drive-13194
END:VEVENT

END:VCALENDAR
