BEGIN:VCALENDAR
VERSION:2.0
PRODID:-//ChamberMaster//Event Calendar 2.0//EN
METHOD:PUBLISH
X-PUBLISHED-TTL:P3D
REFRESH-INTERVAL:P3D
CALSCALE:GREGORIAN
BEGIN:VEVENT
DTSTART;VALUE=DATE:20230717
DTEND;VALUE=DATE:20230728
TRANSP:TRANSPARENT
X-MICROSOFT-CDO-ALLDAYEVENT:TRUE
SUMMARY:Kids Swim Lessons
DESCRIPTION:Swim skillfully Behave safely in and around water. Know what to do in an emergency. Build lifelong skills and water competency. Participate in swim programs and build your water safety skills and confidence. Register today at www.mccpra.com.
X-ALT-DESC;FMTTYPE=text/html:Swim skillfully Behave safely in and around water. Know what to do in an emergency. Build lifelong skills and water competency. Participate in swim programs and build your water safety skills and confidence. Register today at www.mccpra.com.
LOCATION:NW POOL
UID:e.570.13156
SEQUENCE:3
DTSTAMP:20260424T204220Z
URL:https://business.moultriechamber.com/events/details/kids-swim-lessons-07-17-2023-13156
END:VEVENT

END:VCALENDAR
