BEGIN:VCALENDAR
VERSION:2.0
PRODID:-//ChamberMaster//Event Calendar 2.0//EN
METHOD:PUBLISH
X-PUBLISHED-TTL:P3D
REFRESH-INTERVAL:P3D
CALSCALE:GREGORIAN
BEGIN:VEVENT
DTSTART;VALUE=DATE:20230619
DTEND;VALUE=DATE:20230630
TRANSP:TRANSPARENT
X-MICROSOFT-CDO-ALLDAYEVENT:TRUE
SUMMARY:Kids Swim Lessons
DESCRIPTION:Monday-Thursday Swim skillfully Behave safely in and around water. Know what to do in an emergency. Build lifelong skills and water competency. Participate in swim programs and build your water safety skills and confidence. register today at www.mccpra.com\, the first 150 kids signed up are free!
X-ALT-DESC;FMTTYPE=text/html:Monday-Thursday Swim skillfully Behave safely in and around water. Know what to do in an emergency. Build lifelong skills and water competency. Participate in swim programs and build your water safety skills and confidence. register today at www.mccpra.com\, the first 150 kids signed up are free!
LOCATION:NW POOL
UID:e.570.13155
SEQUENCE:3
DTSTAMP:20260424T210842Z
URL:https://business.moultriechamber.com/events/details/kids-swim-lessons-06-19-2023-13155
END:VEVENT

END:VCALENDAR
