BEGIN:VCALENDAR
VERSION:2.0
PRODID:-//ChamberMaster//Event Calendar 2.0//EN
METHOD:PUBLISH
X-PUBLISHED-TTL:P3D
REFRESH-INTERVAL:P3D
CALSCALE:GREGORIAN
BEGIN:VEVENT
DTSTART:20230617T140000Z
DTEND:20230617T220000Z
X-MICROSOFT-CDO-ALLDAYEVENT:FALSE
SUMMARY:Juneteenth - Celebration
DESCRIPTION:Food\, fun\, fellowship\, vendors\, bounce houses\, waterslides\, and appearances from various speakers in addition to a concert beginning at 7:00 pm.
X-ALT-DESC;FMTTYPE=text/html:Food\, fun\, fellowship\, vendors\, bounce houses\, waterslides\, and appearances from various speakers in addition to a concert beginning at 7:00 pm.&nbsp\;
LOCATION:In downtown Moultrie at the courthouse on the square.
UID:e.570.13093
SEQUENCE:3
DTSTAMP:20260424T210404Z
URL:https://business.moultriechamber.com/events/details/juneteenth-celebration-13093
END:VEVENT

END:VCALENDAR
