BEGIN:VCALENDAR
VERSION:2.0
PRODID:-//ChamberMaster//Event Calendar 2.0//EN
METHOD:PUBLISH
X-PUBLISHED-TTL:P3D
REFRESH-INTERVAL:P3D
CALSCALE:GREGORIAN
BEGIN:VEVENT
DTSTART:20230616T220000Z
DTEND:20230617T033000Z
X-MICROSOFT-CDO-ALLDAYEVENT:FALSE
SUMMARY:Juneteenth - Black Tie Gala
DESCRIPTION:Special guest speaker - Dr. Fonda Thompson\, dinner\, and entertainment by B.ET christian comedian Ms. Sylvia Holloway\, Aka "Small Fire".
X-ALT-DESC;FMTTYPE=text/html:Special guest speaker - Dr. Fonda Thompson\, dinner\, and entertainment by B.ET christian comedian Ms. Sylvia Holloway\, Aka &quot\;Small Fire&quot\;.&nbsp\;
LOCATION:At the Colquitt County Courthouse Ballroom 401 7th Avenue Southwest\, Moultrie\, Ga
UID:e.570.13092
SEQUENCE:3
DTSTAMP:20260424T210450Z
URL:https://business.moultriechamber.com/events/details/juneteenth-black-tie-gala-13092
END:VEVENT

END:VCALENDAR
