BEGIN:VCALENDAR
VERSION:2.0
PRODID:-//ChamberMaster//Event Calendar 2.0//EN
METHOD:PUBLISH
X-PUBLISHED-TTL:P3D
REFRESH-INTERVAL:P3D
CALSCALE:GREGORIAN
BEGIN:VEVENT
DTSTART:20240319T230000Z
DTEND:20240320T000000Z
X-MICROSOFT-CDO-ALLDAYEVENT:FALSE
SUMMARY:Jesus in the Passover Presentation
DESCRIPTION:Christ in the Passover\n\nAn exploration of Passover\, The Last Supper\, and your Communion experience.\n\n#ChristInThePassover\n\n\n\nJews for Jesus Passover Presentation\n\n\n\nFor more information email office@fumcmoultrie.org or (229) 985-2139
X-ALT-DESC;FMTTYPE=text/html:<h2 style="font-style:italic">Christ in the Passover</h2>\n\n<p>An exploration of Passover\, The Last Supper\, and your Communion experience.<br />\n#ChristInThePassover<br />\n<br />\nJews for Jesus Passover Presentation<br />\n<br />\nFor more information email office@fumcmoultrie.org or (229) 985-2139</p>\n
LOCATION:First United Methodist Church Moultrie 409 1st St SE Moultrie\, Georgia
UID:e.570.13252
SEQUENCE:3
DTSTAMP:20260424T095244Z
URL:https://business.moultriechamber.com/events/details/jesus-in-the-passover-presentation-13252
END:VEVENT

END:VCALENDAR
