BEGIN:VCALENDAR
VERSION:2.0
PRODID:-//ChamberMaster//Event Calendar 2.0//EN
METHOD:PUBLISH
X-PUBLISHED-TTL:P3D
REFRESH-INTERVAL:P3D
CALSCALE:GREGORIAN
BEGIN:VEVENT
DTSTART:20240604T183000Z
DTEND:20240604T193000Z
X-MICROSOFT-CDO-ALLDAYEVENT:FALSE
SUMMARY:Jeffini's Wild West Adventure
DESCRIPTION:Join Marshall Jeffini for a wild west adventure with plenty of magic and puppet friends along the way.
X-ALT-DESC;FMTTYPE=text/html:Join Marshall Jeffini for a wild west adventure with plenty of magic and puppet friends along the way.
LOCATION:Doerun Community Library 185 N Freeman St\, Doerun\, GA 31744
UID:e.570.13268
SEQUENCE:3
DTSTAMP:20260424T064435Z
URL:https://business.moultriechamber.com/events/details/jeffini-s-wild-west-adventure-06-04-2024-13268
END:VEVENT

END:VCALENDAR
