BEGIN:VCALENDAR
VERSION:2.0
PRODID:-//ChamberMaster//Event Calendar 2.0//EN
METHOD:PUBLISH
X-PUBLISHED-TTL:P3D
REFRESH-INTERVAL:P3D
CALSCALE:GREGORIAN
BEGIN:VEVENT
DTSTART;VALUE=DATE:20230703
DTEND;VALUE=DATE:20230704
TRANSP:TRANSPARENT
X-MICROSOFT-CDO-ALLDAYEVENT:TRUE
SUMMARY:Independence Day Commemoration
DESCRIPTION:Lewis Hill Amphitheater at Colquitt County Courthouse. Celebrating America's 247th birthday and honoring Korean War era veterans on the 70th Anniversary of the Korean War Armistice. Contact MoultrieDAR@gmail.com to register a Korean era veteran.
X-ALT-DESC;FMTTYPE=text/html:Lewis Hill Amphitheater at Colquitt County Courthouse. Celebrating America&rsquo\;s 247th birthday and honoring Korean War era veterans on the 70th Anniversary of the Korean War Armistice. Contact MoultrieDAR@gmail.com to register a Korean era veteran.
LOCATION:Colquitt County Courthouse
UID:e.570.13175
SEQUENCE:3
DTSTAMP:20260424T193110Z
URL:https://business.moultriechamber.com/events/details/independence-day-commemoration-13175
END:VEVENT

END:VCALENDAR
