BEGIN:VCALENDAR
VERSION:2.0
PRODID:-//ChamberMaster//Event Calendar 2.0//EN
METHOD:PUBLISH
X-PUBLISHED-TTL:P3D
REFRESH-INTERVAL:P3D
CALSCALE:GREGORIAN
BEGIN:VEVENT
DTSTART:20240312T130000Z
DTEND:20240313T190000Z
X-MICROSOFT-CDO-ALLDAYEVENT:FALSE
SUMMARY:Hiring Event- Shamrock and Roll into your Career
DESCRIPTION:All Ways Caring Home Care is hosting our second hiring event of the year. We are looking for experienced caregivers to provide care to our Colquitt County community of clients and surrounding areas. Are you compassionate and love to make a difference\, then come apply with us www.allwayscaring.com. We offer flexible schedules\, daily pay\, bonus incentives and more.
X-ALT-DESC;FMTTYPE=text/html:All Ways Caring Home Care is hosting our second hiring event of the year. We are looking for experienced caregivers to provide care to our Colquitt County community of clients and surrounding areas. Are you compassionate and love to make a difference\, then come apply with us www.allwayscaring.com. We offer flexible schedules\, daily pay\, bonus incentives and more.
LOCATION:13881 US Hwy 319 N\, Thomasville GA 31757
UID:e.570.13251
SEQUENCE:3
DTSTAMP:20260424T100429Z
URL:https://business.moultriechamber.com/events/details/hiring-event-shamrock-and-roll-into-your-career-13251
END:VEVENT

END:VCALENDAR
