BEGIN:VCALENDAR
VERSION:2.0
PRODID:-//ChamberMaster//Event Calendar 2.0//EN
METHOD:PUBLISH
X-PUBLISHED-TTL:P3D
REFRESH-INTERVAL:P3D
CALSCALE:GREGORIAN
BEGIN:VEVENT
DTSTART:20261208T223000Z
DTEND:20261209T003000Z
X-MICROSOFT-CDO-ALLDAYEVENT:FALSE
SUMMARY:Harvest Celebration Luncheon
DESCRIPTION:The MCC Chamber of Commerce will hold our Annual Harvest Celebration Luncheon at the Southern Regional Technical College Conference Center. This luncheon is hosted by the Chamber's Agricultural & Rural Services Committee in celebration of our local farmers and agricultural businesses - our community's largest industry category. For more details\, contact the Chamber at 985-2131.
X-ALT-DESC;FMTTYPE=text/html:The MCC Chamber of Commerce will hold our Annual Harvest Celebration Luncheon at the Southern Regional Technical College Conference Center. This luncheon is hosted by the Chamber&#39\;s Agricultural &amp\; Rural Services Committee in celebration of our local farmers and agricultural businesses - our community&#39\;s largest industry category. For more details\, contact the Chamber at 985-2131.
LOCATION:Southern Regional Technical College
UID:e.570.13486
SEQUENCE:3
DTSTAMP:20260424T041138Z
URL:https://business.moultriechamber.com/events/details/harvest-celebration-luncheon-13486
END:VEVENT

END:VCALENDAR
