BEGIN:VCALENDAR
VERSION:2.0
PRODID:-//ChamberMaster//Event Calendar 2.0//EN
METHOD:PUBLISH
X-PUBLISHED-TTL:P3D
REFRESH-INTERVAL:P3D
CALSCALE:GREGORIAN
BEGIN:VEVENT
DTSTART:20231130T163000Z
DTEND:20231130T180000Z
X-MICROSOFT-CDO-ALLDAYEVENT:FALSE
SUMMARY:Harvest Celebration Luncheon
DESCRIPTION:The MCC Chamber of Commerce will hold our Annual Harvest Celebration Luncheon at the Sunbelt Ag Expo Family Living Building. This luncheon is hosted by the Chamber's Agricultural & Rural Services Committee in celebration of our local farmers and agricultural businesses - our community's largest industry category. For more details\, contact the Chamber at 985-2131.
X-ALT-DESC;FMTTYPE=text/html:The MCC Chamber of Commerce will hold our Annual Harvest Celebration Luncheon at the Sunbelt Ag Expo Family Living Building. This luncheon is hosted by the Chamber&#39\;s Agricultural &amp\; Rural Services Committee in celebration of our local farmers and agricultural businesses - our community&#39\;s largest industry category. For more details\, contact the Chamber at 985-2131.
LOCATION:Sunbelt Ag Expo - Family Living Building
UID:e.570.13057
SEQUENCE:3
DTSTAMP:20260424T162700Z
URL:https://business.moultriechamber.com/events/details/harvest-celebration-luncheon-13057
END:VEVENT

END:VCALENDAR
