BEGIN:VCALENDAR
VERSION:2.0
PRODID:-//ChamberMaster//Event Calendar 2.0//EN
METHOD:PUBLISH
X-PUBLISHED-TTL:P3D
REFRESH-INTERVAL:P3D
CALSCALE:GREGORIAN
BEGIN:VEVENT
DTSTART:20231030T220000Z
DTEND:20231030T233000Z
X-MICROSOFT-CDO-ALLDAYEVENT:FALSE
SUMMARY:Halloween Night at the Ballfield
DESCRIPTION:Come dressed in your best costume and we will too! Stop by and say BOO for a treat bag too! October 30th 6pm to 7:30pm
X-ALT-DESC;FMTTYPE=text/html:Come dressed in your best costume and we will too! Stop by and say BOO for a treat bag too! October 30th 6pm to 7:30pm
LOCATION:Magnolia Sports Complex
UID:e.570.13193
SEQUENCE:3
DTSTAMP:20260424T160819Z
URL:https://business.moultriechamber.com/events/details/halloween-night-at-the-ballfield-13193
END:VEVENT

END:VCALENDAR
