BEGIN:VCALENDAR
VERSION:2.0
PRODID:-//ChamberMaster//Event Calendar 2.0//EN
METHOD:PUBLISH
X-PUBLISHED-TTL:P3D
REFRESH-INTERVAL:P3D
CALSCALE:GREGORIAN
BEGIN:VEVENT
DTSTART:20231021T230000Z
DTEND:20231022T003000Z
X-MICROSOFT-CDO-ALLDAYEVENT:FALSE
SUMMARY:Halloween Nerf Night
DESCRIPTION:We will have a Halloween costume contest so come dressed to win. Game\, pizza\, and Music! Join us for this fun night out! Cost $10 Per Person
X-ALT-DESC;FMTTYPE=text/html:We will have a Halloween costume contest so come dressed to win. Game\, pizza\, and Music! Join us for this fun night out! Cost $10 Per Person
LOCATION:Tommy Meredith Gym
UID:e.570.13192
SEQUENCE:3
DTSTAMP:20260424T160029Z
URL:https://business.moultriechamber.com/events/details/halloween-nerf-night-13192
END:VEVENT

END:VCALENDAR
