BEGIN:VCALENDAR
VERSION:2.0
PRODID:-//ChamberMaster//Event Calendar 2.0//EN
METHOD:PUBLISH
X-PUBLISHED-TTL:P3D
REFRESH-INTERVAL:P3D
CALSCALE:GREGORIAN
BEGIN:VEVENT
DTSTART:20240329T230000Z
DTEND:20240330T010000Z
X-MICROSOFT-CDO-ALLDAYEVENT:FALSE
SUMMARY:Good Friday Musical Drama\, "It Is Finished!"
DESCRIPTION:First United Methodist Church of Moultrie\n\npresents\n\n"It Is Finished!"\n\nwritten by Travis Kern\n\n\n\nA Good Friday musical drama.
X-ALT-DESC;FMTTYPE=text/html:<h2 style="font-style: italic\; text-align: center\;">First United Methodist Church of Moultrie</h2>\n\n<div style="text-align: center\;"><cite>presents</cite></div>\n\n<h2 style="font-style: italic\; text-align: center\;">&quot\;It Is Finished!&quot\;</h2>\n\n<div style="text-align: center\;">written by Travis Kern<br />\n<br />\nA Good Friday musical drama.</div>\n
LOCATION:First United Methodist Church 409 1st St SE Moultrie\, Georgia
UID:e.570.13253
SEQUENCE:3
DTSTAMP:20260424T100337Z
URL:https://business.moultriechamber.com/events/details/good-friday-musical-drama-it-is-finished-13253
END:VEVENT

END:VCALENDAR
