BEGIN:VCALENDAR
VERSION:2.0
PRODID:-//ChamberMaster//Event Calendar 2.0//EN
METHOD:PUBLISH
X-PUBLISHED-TTL:P3D
REFRESH-INTERVAL:P3D
CALSCALE:GREGORIAN
BEGIN:VEVENT
DTSTART:20250123T230000Z
DTEND:20250124T010000Z
X-MICROSOFT-CDO-ALLDAYEVENT:FALSE
SUMMARY:Glow into the New Year at Moultrie YMCA
DESCRIPTION:Wear your brightest glow gear and join us for a night filled with family fun as we transform our aquatics center into a GLOW PARTY!\n\nCall us today at (229) 985-1154 to register your family.
X-ALT-DESC;FMTTYPE=text/html:<h2 style="margin: 0px 0px 0.75em\; padding: 0px\; border: 0px\; font-variant-numeric: inherit\; font-variant-east-asian: inherit\; font-variant-alternates: inherit\; font-variant-position: inherit\; font-variant-emoji: inherit\; font-weight: var(--tec-font-weight-bold)\; font-stretch: inherit\; font-size: inherit\; line-height: inherit\; font-family: &quot\;Helvetica Neue&quot\;\, Helvetica\, -apple-system\, BlinkMacSystemFont\, Roboto\, Arial\, sans-serif\; font-optical-sizing: inherit\; font-size-adjust: inherit\; font-kerning: inherit\; font-feature-settings: inherit\; font-variation-settings: inherit\; vertical-align: baseline\; color: rgb(20\, 24\, 39)\; background-color: rgb(250\, 250\, 250)\;"><span style="font-size:14px\;">Wear your brightest glow gear and join us for a night filled with family fun as we transform our aquatics center into a&nbsp\;GLOW PARTY!<br class="html-br" />\nCall us today at (229) 985-1154 to register your family.</span></h2>\n
LOCATION:Moultrie YMCA
UID:e.570.13327
SEQUENCE:3
DTSTAMP:20260423T213737Z
URL:https://business.moultriechamber.com/events/details/glow-into-the-new-year-at-moultrie-ymca-13327
END:VEVENT

END:VCALENDAR
