BEGIN:VCALENDAR
VERSION:2.0
PRODID:-//ChamberMaster//Event Calendar 2.0//EN
METHOD:PUBLISH
X-PUBLISHED-TTL:P3D
REFRESH-INTERVAL:P3D
CALSCALE:GREGORIAN
BEGIN:VEVENT
DTSTART:20250918T170000Z
DTEND:20250918T190000Z
X-MICROSOFT-CDO-ALLDAYEVENT:FALSE
SUMMARY:Get the Scoop & Grab a Slice at Magnolia Manor
DESCRIPTION:Magnolia Manor invites family and friends to Get the Scoop & Grab a Slice! Come enjoy delicious ice cream and pie while learning more about everything Magnolia Manor has to offer. Guests can look forward to refreshments\, door prizes\, and an afternoon of fellowship.
X-ALT-DESC;FMTTYPE=text/html:<br />\n<span style="font-size:18px\;">Magnolia Manor invites family and friends to <em data-end="156" data-start="126">Get the Scoop &amp\; Grab a Slice</em>! Come enjoy delicious ice cream and pie while learning more about everything Magnolia Manor has to offer. Guests can look forward to refreshments\, door prizes\, and an afternoon of fellowship.</span>
LOCATION:3011 Veterans Parkway Moultrie\, Ga
UID:e.570.13394
SEQUENCE:3
DTSTAMP:20260423T142058Z
URL:https://business.moultriechamber.com/events/details/get-the-scoop-grab-a-slice-at-magnolia-manor-13394
END:VEVENT

END:VCALENDAR
