BEGIN:VCALENDAR
VERSION:2.0
PRODID:-//ChamberMaster//Event Calendar 2.0//EN
METHOD:PUBLISH
X-PUBLISHED-TTL:P3D
REFRESH-INTERVAL:P3D
CALSCALE:GREGORIAN
BEGIN:VEVENT
DTSTART:20231111T150000Z
DTEND:20231111T190000Z
X-MICROSOFT-CDO-ALLDAYEVENT:FALSE
SUMMARY:Gen. Moultrie Day
DESCRIPTION:During Second Saturday\, Courthouse Square celebrating birthday of Moultrie's namesake. Birthday cake and other festivities. DAR members in Colonial attire.
X-ALT-DESC;FMTTYPE=text/html:During Second Saturday\, Courthouse Square celebrating birthday of Moultrie&rsquo\;s namesake. Birthday cake and other festivities. DAR members in Colonial attire.
LOCATION:Courthouse Square
UID:e.570.13178
SEQUENCE:3
DTSTAMP:20260424T151612Z
URL:https://business.moultriechamber.com/events/details/gen-moultrie-day-13178
END:VEVENT

END:VCALENDAR
