BEGIN:VCALENDAR
VERSION:2.0
PRODID:-//ChamberMaster//Event Calendar 2.0//EN
METHOD:PUBLISH
X-PUBLISHED-TTL:P3D
REFRESH-INTERVAL:P3D
CALSCALE:GREGORIAN
BEGIN:VEVENT
DTSTART:20250927T130000Z
DTEND:20250927T160000Z
X-MICROSOFT-CDO-ALLDAYEVENT:FALSE
SUMMARY:FREE Pet Vaccines Event – Moultrie\, GA
DESCRIPTION:A Free Pet Vaccine Clinic will take place on Saturday\, September 27\, from 9:00 a.m. to Noon at the Ag Building\, 350 Veterans Parkway North\, Moultrie.\n\nThanks to Petco Love and our community partners\, the following services will be offered:\n\n\n	\n	DAPPv for healthy dogs & puppies\n	\n	\n	HCP/FVRCP for healthy cats & kittens\n	\n\n\nAdditional low-cost services:\n\n\n	\n	Rabies vaccines: $15\n	\n	\n	Microchips: $10\n	\n\n\nNo registration is required   open to all counties and all states.\n\nAll pets must be on a leash or in a carrier.\n\nNo ID required.\n\nVolunteers are still needed. Come be part of this effort to keep pets healthy and our community safe.
X-ALT-DESC;FMTTYPE=text/html:&nbsp\;\n<p data-end="286" data-start="123"><span style="font-size:18px\;">A <strong data-end="152" data-start="125">Free Pet Vaccine Clinic</strong> will take place on <strong data-end="222" data-start="172">Saturday\, September 27\, from 9:00 a.m. to Noon</strong> at the <strong data-end="283" data-start="230">Ag Building\, 350 Veterans Parkway North\, Moultrie</strong>.</span></p>\n\n<p data-end="382" data-start="288"><span style="font-size:18px\;">Thanks to <strong data-end="312" data-start="298">Petco Love</strong> and our community partners\, the following services will be offered:</span></p>\n\n<ul data-end="460" data-start="383">\n	<li data-end="419" data-start="383">\n	<p data-end="419" data-start="385"><span style="font-size:18px\;">DAPPv for healthy dogs &amp\; puppies</span></p>\n	</li>\n	<li data-end="460" data-start="420">\n	<p data-end="460" data-start="422"><span style="font-size:18px\;">HCP/FVRCP for healthy cats &amp\; kittens</span></p>\n	</li>\n</ul>\n\n<p data-end="493" data-start="462"><span style="font-size:18px\;">Additional low-cost services:</span></p>\n\n<ul data-end="538" data-start="494">\n	<li data-end="518" data-start="494">\n	<p data-end="518" data-start="496"><span style="font-size:18px\;">Rabies vaccines: $15</span></p>\n	</li>\n	<li data-end="538" data-start="519">\n	<p data-end="538" data-start="521"><span style="font-size:18px\;">Microchips: $10</span></p>\n	</li>\n</ul>\n\n<p data-end="673" data-start="540"><span style="font-size:18px\;">No registration is required &ndash\; open to all counties and all states.<br data-end="609" data-start="606" />\nAll pets must be on a leash or in a carrier.<br data-end="656" data-start="653" />\nNo ID required.</span></p>\n\n<p data-end="778" data-start="675"><span style="font-size:18px\;">Volunteers are still needed. Come be part of this effort to keep pets healthy and our community safe.</span></p>\n
LOCATION:Ag Building 50 Veterans Parkway North\, Moultrie
UID:e.570.13410
SEQUENCE:3
DTSTAMP:20260423T141941Z
URL:https://business.moultriechamber.com/events/details/free-pet-vaccines-event-moultrie-ga-13410
END:VEVENT

END:VCALENDAR
