BEGIN:VCALENDAR
VERSION:2.0
PRODID:-//ChamberMaster//Event Calendar 2.0//EN
METHOD:PUBLISH
X-PUBLISHED-TTL:P3D
REFRESH-INTERVAL:P3D
CALSCALE:GREGORIAN
BEGIN:VEVENT
DTSTART:20251011T180000Z
DTEND:20251011T200000Z
X-MICROSOFT-CDO-ALLDAYEVENT:FALSE
SUMMARY:Floating Pumpkin Patch - MCCPRA
DESCRIPTION:Celebrate fall with a splash at the Floating Pumpkin Patch\, hosted by the Moultrie-Colquitt County Parks & Recreation Authority. Children and families will have the chance to pick their favorite pumpkin from the pool at Southwest Memorial Pool\, creating a unique twist on a classic autumn tradition!
X-ALT-DESC;FMTTYPE=text/html:<br />\nCelebrate fall with a splash at the Floating Pumpkin Patch\, hosted by the Moultrie-Colquitt County Parks &amp\; Recreation Authority. Children and families will have the chance to pick their favorite pumpkin from the pool at Southwest Memorial Pool\, creating a unique twist on a classic autumn tradition!&nbsp\;
LOCATION:Southwest Memorial Pool
UID:e.570.13429
SEQUENCE:3
DTSTAMP:20260423T151135Z
URL:https://business.moultriechamber.com/events/details/floating-pumpkin-patch-mccpra-13429
END:VEVENT

END:VCALENDAR
