BEGIN:VCALENDAR
VERSION:2.0
PRODID:-//ChamberMaster//Event Calendar 2.0//EN
METHOD:PUBLISH
X-PUBLISHED-TTL:P3D
REFRESH-INTERVAL:P3D
CALSCALE:GREGORIAN
BEGIN:VEVENT
DTSTART:20231007T140000Z
DTEND:20231007T160000Z
X-MICROSOFT-CDO-ALLDAYEVENT:FALSE
SUMMARY:Floating Pumpkin Patch
DESCRIPTION:Children can jump in and swim for their pumpkin\, then paint or decorate as they choose. We will have Halloween cookies to decorate and a coloring sheet activity! Cost $5 per child/per pumpkin.
X-ALT-DESC;FMTTYPE=text/html:Children can jump in and swim for their pumpkin\, then paint or decorate as they choose. We will have Halloween cookies to decorate and a coloring sheet activity! Cost $5 per child/per pumpkin.
LOCATION:SW Memorial Pool
UID:e.570.13189
SEQUENCE:3
DTSTAMP:20260424T155837Z
URL:https://business.moultriechamber.com/events/details/floating-pumpkin-patch-10-07-2023-13189
END:VEVENT

END:VCALENDAR
