BEGIN:VCALENDAR
VERSION:2.0
PRODID:-//ChamberMaster//Event Calendar 2.0//EN
METHOD:PUBLISH
X-PUBLISHED-TTL:P3D
REFRESH-INTERVAL:P3D
CALSCALE:GREGORIAN
BEGIN:VEVENT
DTSTART:20230614T140000Z
DTEND:20230614T150000Z
X-MICROSOFT-CDO-ALLDAYEVENT:FALSE
SUMMARY:Flag day at Main Street Park
DESCRIPTION:June 14th 10am Main Street Park Flag Day Join us for We will observe a flag retirement ceremony.
X-ALT-DESC;FMTTYPE=text/html:June 14th 10am Main Street Park Flag Day Join us for We will observe a flag retirement ceremony.
LOCATION:Main Street Park
UID:e.570.13160
SEQUENCE:3
DTSTAMP:20260424T210842Z
URL:https://business.moultriechamber.com/events/details/flag-day-at-main-street-park-13160
END:VEVENT

END:VCALENDAR
