BEGIN:VCALENDAR
VERSION:2.0
PRODID:-//ChamberMaster//Event Calendar 2.0//EN
METHOD:PUBLISH
X-PUBLISHED-TTL:P3D
REFRESH-INTERVAL:P3D
CALSCALE:GREGORIAN
BEGIN:VEVENT
DTSTART:20250608T220000Z
DTEND:20250609T001500Z
X-MICROSOFT-CDO-ALLDAYEVENT:FALSE
SUMMARY:First Baptist Church Norman Park- Camp Firelight
DESCRIPTION:Join us for an exciting week of faith\, fun\, and fellowship at Vacation Bible School! Children ages 4 through 6th grade are invited to experience engaging Bible stories\, creative crafts\, lively music\, and interactive activities. This year's VBS promises to be an unforgettable journey of learning and fun.
X-ALT-DESC;FMTTYPE=text/html:<span class="relative -mx-px my-[-0.2rem] rounded px-px py-[0.2rem] transition-colors duration-100 ease-in-out">Join us for an exciting week of faith\, fun\, and fellowship at <strong data-end="87" data-start="62">Vacation Bible School</strong>!</span> <span class="relative -mx-px my-[-0.2rem] rounded px-px py-[0.2rem] transition-colors duration-100 ease-in-out">Children ages 4 through 6th grade are invited to experience engaging Bible stories\, creative crafts\, lively music\, and interactive activities.</span> <span class="relative -mx-px my-[-0.2rem] rounded px-px py-[0.2rem] transition-colors duration-100 ease-in-out">This year&#39\;s VBS promises to be an unforgettable journey of learning and fun.</span>
LOCATION:First Baptist Church Norman Park 100 E Board Street Norman Park\, GA 31637
UID:e.570.13358
SEQUENCE:3
DTSTAMP:20260423T110534Z
URL:https://business.moultriechamber.com/events/details/first-baptist-church-norman-park-camp-firelight-13358
END:VEVENT

END:VCALENDAR
