BEGIN:VCALENDAR
VERSION:2.0
PRODID:-//ChamberMaster//Event Calendar 2.0//EN
METHOD:PUBLISH
X-PUBLISHED-TTL:P3D
REFRESH-INTERVAL:P3D
CALSCALE:GREGORIAN
BEGIN:VEVENT
DTSTART:20230622T123000Z
DTEND:20230622T160000Z
X-MICROSOFT-CDO-ALLDAYEVENT:FALSE
SUMMARY:Fiddlin' Dan @ the Library
DESCRIPTION:Stories and songs inspired by the Appalachian Mountains. Don't miss the super fun Jug Band Finale!
X-ALT-DESC;FMTTYPE=text/html:Stories and songs inspired by the Appalachian Mountains. Don&rsquo\;t miss the super fun Jug Band Finale!
LOCATION:Moultrie Library 204 5th St\, SE Moultrie\, Ga
UID:e.570.13170
SEQUENCE:3
DTSTAMP:20260424T210403Z
URL:https://business.moultriechamber.com/events/details/fiddlin-dan-the-library-13170
END:VEVENT

END:VCALENDAR
