BEGIN:VCALENDAR
VERSION:2.0
PRODID:-//ChamberMaster//Event Calendar 2.0//EN
METHOD:PUBLISH
X-PUBLISHED-TTL:P3D
REFRESH-INTERVAL:P3D
CALSCALE:GREGORIAN
BEGIN:VEVENT
DTSTART:20230622T183000Z
DTEND:20230622T193000Z
X-MICROSOFT-CDO-ALLDAYEVENT:FALSE
SUMMARY:Fiddlin' Dan @ the Doerun Library
DESCRIPTION:Stories and songs inspired by the Appalachian Mountains. Don't miss the super fun Jug Band Finale!
X-ALT-DESC;FMTTYPE=text/html:Stories and songs inspired by the Appalachian Mountains. Don&rsquo\;t miss the super fun Jug Band Finale!
LOCATION:Doerun Municipal Library 185 N Freeman St Doerun\, GA
UID:e.570.13171
SEQUENCE:3
DTSTAMP:20260424T210450Z
URL:https://business.moultriechamber.com/events/details/fiddlin-dan-the-doerun-library-13171
END:VEVENT

END:VCALENDAR
