BEGIN:VCALENDAR
VERSION:2.0
PRODID:-//ChamberMaster//Event Calendar 2.0//EN
METHOD:PUBLISH
X-PUBLISHED-TTL:P3D
REFRESH-INTERVAL:P3D
CALSCALE:GREGORIAN
BEGIN:VEVENT
DTSTART:20210611T143000Z
DTEND:20210612T030000Z
X-MICROSOFT-CDO-ALLDAYEVENT:FALSE
SUMMARY:Family Storytime in the Park
DESCRIPTION:Meet Ms. Erin in the Bert Harsh Park (next to the Moultrie Library parking lot) for an outdoor\, socially distanced storytime each Friday in June! Bring your own chairs/blankets and we'll sit under the big shade tree to share stories\, songs\, and activities. Recommended for ages 0   5.
X-ALT-DESC;FMTTYPE=text/html:Meet Ms. Erin in the Bert Harsh Park (next to the Moultrie Library parking lot) for an outdoor\, socially distanced storytime each Friday in June! Bring your own chairs/blankets and we&#39\;ll sit under the big shade tree to share stories\, songs\, and activities. Recommended for ages 0 &ndash\; 5.
LOCATION:Bert Harsh Park next door to the Moultrie Library @ 204 5th St SE\, Moultrie\, GA 31768.
UID:e.570.11418
SEQUENCE:3
DTSTAMP:20260423T132351Z
URL:https://business.moultriechamber.com/events/details/family-storytime-in-the-park-06-11-2021-11418
END:VEVENT

END:VCALENDAR
