BEGIN:VCALENDAR
VERSION:2.0
PRODID:-//ChamberMaster//Event Calendar 2.0//EN
METHOD:PUBLISH
X-PUBLISHED-TTL:P3D
REFRESH-INTERVAL:P3D
CALSCALE:GREGORIAN
BEGIN:VEVENT
DTSTART:20230923T200000Z
DTEND:20230923T220000Z
X-MICROSOFT-CDO-ALLDAYEVENT:FALSE
SUMMARY:Family Fun Day hosted by Mustard Seed Cottage and Moultrie Jr. Woman's Club
DESCRIPTION:
X-ALT-DESC;FMTTYPE=text/html:
LOCATION:Sunbelt Ag Expo Site
UID:e.570.13097
SEQUENCE:3
DTSTAMP:20260424T172701Z
URL:https://business.moultriechamber.com/events/details/family-fun-day-hosted-by-mustard-seed-cottage-and-moultrie-jr-woman-s-club-13097
END:VEVENT

END:VCALENDAR
