BEGIN:VCALENDAR
VERSION:2.0
PRODID:-//ChamberMaster//Event Calendar 2.0//EN
METHOD:PUBLISH
X-PUBLISHED-TTL:P3D
REFRESH-INTERVAL:P3D
CALSCALE:GREGORIAN
BEGIN:VEVENT
DTSTART:20230731T120000Z
DTEND:20230901T035500Z
X-MICROSOFT-CDO-ALLDAYEVENT:FALSE
SUMMARY:Fall Sports Registration
DESCRIPTION:$40 Flag Football Ages 5-6 $40 Girls Flag Football 4th-5th\, Middle and High School Divisions $50 Tackle Football 7-10 and 5th Graders $40 Cheerleaders Ages 5-12 $40 T-Ball Ages 3-6 Softball Ages 7-14 Baseball 7-12 Skills Training and Game Play 4th Grade - 5th Grade\, Middle and High School Divisions $40 Per Participant Season Dates: Late November- Early December
X-ALT-DESC;FMTTYPE=text/html:$40 Flag Football Ages 5-6 $40 Girls Flag Football 4th-5th\, Middle and High School Divisions $50 Tackle Football 7-10 and 5th Graders $40 Cheerleaders Ages 5-12 $40 T-Ball Ages 3-6 Softball Ages 7-14 Baseball 7-12 Skills Training and Game Play 4th Grade - 5th Grade\, Middle and High School Divisions $40 Per Participant Season Dates: Late November- Early December
LOCATION:https://secure.rec1.com/frontdesk
UID:e.570.13183
SEQUENCE:3
DTSTAMP:20260424T181908Z
URL:https://business.moultriechamber.com/events/details/fall-sports-registration-13183
END:VEVENT

END:VCALENDAR
