BEGIN:VCALENDAR
VERSION:2.0
PRODID:-//ChamberMaster//Event Calendar 2.0//EN
METHOD:PUBLISH
X-PUBLISHED-TTL:P3D
REFRESH-INTERVAL:P3D
CALSCALE:GREGORIAN
BEGIN:VEVENT
DTSTART:20250605T160000Z
DTEND:20250605T170000Z
X-MICROSOFT-CDO-ALLDAYEVENT:FALSE
SUMMARY:Early intervention to education- Parent to Parent of Georgia
DESCRIPTION:Join Parent to Parent of Georgia for an informative online session designed to empower parents and caregivers of young children. This workshop will guide participants in understanding their role in their child's educational journey by introducing key members of the education team\, developing communication skills\, exploring placement options\, and preparing for important transitions.
X-ALT-DESC;FMTTYPE=text/html:Join Parent to Parent of Georgia for an informative online session designed to empower parents and caregivers of young children. This workshop will guide participants in understanding their role in their child&#39\;s educational journey by introducing key members of the education team\, developing communication skills\, exploring placement options\, and preparing for important transitions.
LOCATION:
UID:e.570.13365
SEQUENCE:3
DTSTAMP:20260423T111147Z
URL:https://business.moultriechamber.com/events/details/early-intervention-to-education-parent-to-parent-of-georgia-13365
END:VEVENT

END:VCALENDAR
