BEGIN:VCALENDAR
VERSION:2.0
PRODID:-//ChamberMaster//Event Calendar 2.0//EN
METHOD:PUBLISH
X-PUBLISHED-TTL:P3D
REFRESH-INTERVAL:P3D
CALSCALE:GREGORIAN
BEGIN:VEVENT
DTSTART:20240627T200000Z
DTEND:20240627T210000Z
X-MICROSOFT-CDO-ALLDAYEVENT:FALSE
SUMMARY:Doerun Crafternoon
DESCRIPTION:Beat the afternoon heat with a fun craft/activity at the Doerun Library.
X-ALT-DESC;FMTTYPE=text/html:Beat the afternoon heat with a fun craft/activity at the Doerun Library.
LOCATION:Doerun Community Library 185 Freeman St\, Doerun\, GA
UID:e.570.13281
SEQUENCE:3
DTSTAMP:20260424T064437Z
URL:https://business.moultriechamber.com/events/details/doerun-crafternoon-06-27-2024-13281
END:VEVENT

END:VCALENDAR
