BEGIN:VCALENDAR
VERSION:2.0
PRODID:-//ChamberMaster//Event Calendar 2.0//EN
METHOD:PUBLISH
X-PUBLISHED-TTL:P3D
REFRESH-INTERVAL:P3D
CALSCALE:GREGORIAN
BEGIN:VEVENT
DTSTART:20230113T220000Z
DTEND:20230115T170000Z
X-MICROSOFT-CDO-ALLDAYEVENT:FALSE
SUMMARY:DiscipleNow Youth Event
DESCRIPTION:Registration now open for our most highly anticipated youth event of the year: DiscipleNow! This year's theme: Reel Talk Every 6th-12th Grader in Colquitt County is invited to attend!
X-ALT-DESC;FMTTYPE=text/html:Registration now open for our most highly anticipated youth event of the year: DiscipleNow! This year&#39\;s theme: Reel Talk Every 6th-12th Grader in Colquitt County is invited to attend!
LOCATION:First Baptist Church Moultrie 400 S Main St\, Moultrie\, GA 31768
UID:e.570.13008
SEQUENCE:3
DTSTAMP:20260425T034343Z
URL:https://business.moultriechamber.com/events/details/disciplenow-youth-event-13008
END:VEVENT

END:VCALENDAR
