BEGIN:VCALENDAR
VERSION:2.0
PRODID:-//ChamberMaster//Event Calendar 2.0//EN
METHOD:PUBLISH
X-PUBLISHED-TTL:P3D
REFRESH-INTERVAL:P3D
CALSCALE:GREGORIAN
BEGIN:VEVENT
DTSTART:20250920T130000Z
DTEND:20250920T170000Z
X-MICROSOFT-CDO-ALLDAYEVENT:FALSE
SUMMARY:Days for Kids - Boys & Girls Club of Moultrie/Colquitt County
DESCRIPTION:The Boys & Girls Clubs of Moultrie/Colquitt County invite you to join us for Day for Kids a free\, family-friendly celebration designed to let kids simply be kids! Enjoy a morning filled with fun activities\, community spirit\, and plenty of laughter.\n\nThis special event is open to all families and children in the community. Come out and enjoy games\, activities\, and togetherness in a safe and welcoming environment.
X-ALT-DESC;FMTTYPE=text/html:<br />\n<span style="font-size:18px\;">The Boys &amp\; Girls Clubs of Moultrie/Colquitt County invite you to join us for <em data-end="196" data-start="182">Day for Kids</em>&mdash\;a free\, family-friendly celebration designed to let kids simply be kids! Enjoy a morning filled with fun activities\, community spirit\, and plenty of laughter.<br />\nThis special event is open to all families and children in the community. Come out and enjoy games\, activities\, and togetherness in a safe and welcoming environment.</span>
LOCATION:Downtown Square\, Moultrie\, GA
UID:e.570.13402
SEQUENCE:3
DTSTAMP:20260423T142539Z
URL:https://business.moultriechamber.com/events/details/days-for-kids-boys-girls-club-of-moultrie-colquitt-county-13402
END:VEVENT

END:VCALENDAR
