BEGIN:VCALENDAR
VERSION:2.0
PRODID:-//ChamberMaster//Event Calendar 2.0//EN
METHOD:PUBLISH
X-PUBLISHED-TTL:P3D
REFRESH-INTERVAL:P3D
CALSCALE:GREGORIAN
BEGIN:VEVENT
DTSTART:20230810T230000Z
DTEND:20230811T003000Z
X-MICROSOFT-CDO-ALLDAYEVENT:FALSE
SUMMARY:"Dancing with the Moultrie Stars" hosted by Mustard Seed Cottage\, Inc.
DESCRIPTION:Join us for the 1st Annual "Dancing with the Moultrie Stars".  A night filled with fun\, lively music and fabulous talent from some of our "Moultrie Stars".  A full list of contestants will be listed at a later date once we have them all finalized.  We already have over half of Moultrie's finest on the contestant list.  This night will be hosted by the Mustard Seed Cottage\, Inc. to raise money for our capital campaign.  Our goal is to build a seven bedroom home to house six women facing unplanned pregnancies that have no place to live\, no support and no life skills.  Please join us as we aim to "raise the roof" for this cottage.  Ticket information will be coming soon.
X-ALT-DESC;FMTTYPE=text/html:Join us for the 1st Annual &quot\;Dancing with the Moultrie Stars&quot\;.&nbsp\; A night filled with fun\, lively music and fabulous talent from some of our &quot\;Moultrie Stars&quot\;.&nbsp\; A full list of contestants will be listed at a later date once we have them all finalized.&nbsp\; We already have over half of Moultrie&#39\;s finest on the contestant list.&nbsp\; This night will be hosted by the Mustard Seed Cottage\, Inc. to raise money for our capital campaign.&nbsp\; Our goal is to build a seven bedroom home to house six women facing unplanned pregnancies that have no place to live\, no support and no life skills.&nbsp\; Please join us as we aim to &quot\;raise the roof&quot\; for this cottage.&nbsp\; Ticket information will be coming soon.
LOCATION:Wither's Auditorium
UID:e.570.13096
SEQUENCE:3
DTSTAMP:20260424T183032Z
URL:https://business.moultriechamber.com/events/details/dancing-with-the-moultrie-stars-hosted-by-mustard-seed-cottage-inc-13096
END:VEVENT

END:VCALENDAR
