BEGIN:VCALENDAR
VERSION:2.0
PRODID:-//ChamberMaster//Event Calendar 2.0//EN
METHOD:PUBLISH
X-PUBLISHED-TTL:P3D
REFRESH-INTERVAL:P3D
CALSCALE:GREGORIAN
BEGIN:VEVENT
DTSTART:20240310T000000Z
DTEND:20240310T020000Z
X-MICROSOFT-CDO-ALLDAYEVENT:FALSE
SUMMARY:Dancing with the Moultrie Stars 2024
DESCRIPTION:Join us for a night of fun and laughter as 10 of our Moultrie STARS dance and show off their talents at the 2nd annual "Dancing with the Moultrie Stars" hosted by the Mustard Seed Cottage\, Inc.
X-ALT-DESC;FMTTYPE=text/html:Join us for a night of fun and laughter as 10 of our Moultrie STARS dance and show off their talents at the 2nd annual &quot\;Dancing with the Moultrie Stars&quot\; hosted by the Mustard Seed Cottage\, Inc.
LOCATION:Wither's Auditorium
UID:e.570.13204
SEQUENCE:3
DTSTAMP:20260424T100352Z
URL:https://business.moultriechamber.com/events/details/dancing-with-the-moultrie-stars-2024-13204
END:VEVENT

END:VCALENDAR
