BEGIN:VCALENDAR
VERSION:2.0
PRODID:-//ChamberMaster//Event Calendar 2.0//EN
METHOD:PUBLISH
X-PUBLISHED-TTL:P3D
REFRESH-INTERVAL:P3D
CALSCALE:GREGORIAN
BEGIN:VEVENT
DTSTART:20260314T220000Z
DTEND:20260315T010000Z
X-MICROSOFT-CDO-ALLDAYEVENT:FALSE
SUMMARY:Dancing with the Moultrie Stars
DESCRIPTION:4th Annual Fundraising Event for Mustard Seed Cottage. A maternal supportive housing residence where residents learn life skills and have a safe home to live in with their newborn baby until the baby is 18 months old. DWMS is a fun night filled with dancing and fun interactions with the audience.
X-ALT-DESC;FMTTYPE=text/html:4th Annual Fundraising Event for Mustard Seed Cottage. A maternal supportive housing residence where residents learn life skills and have a safe home to live in with their newborn baby until the baby is 18 months old. DWMS is a fun night filled with dancing and fun interactions with the audience.
LOCATION:Wither's Auditorium
UID:e.570.13559
SEQUENCE:3
DTSTAMP:20260423T162630Z
URL:https://business.moultriechamber.com/events/details/dancing-with-the-moultrie-stars-13559
END:VEVENT

END:VCALENDAR
