BEGIN:VCALENDAR
VERSION:2.0
PRODID:-//ChamberMaster//Event Calendar 2.0//EN
METHOD:PUBLISH
X-PUBLISHED-TTL:P3D
REFRESH-INTERVAL:P3D
CALSCALE:GREGORIAN
BEGIN:VEVENT
DTSTART:20250201T220000Z
DTEND:20250202T010000Z
X-MICROSOFT-CDO-ALLDAYEVENT:FALSE
SUMMARY:Daddy Daughter Dance
DESCRIPTION:Dads\, save the date for a fun night with your little girls making unforgettable memories filled with twirls\, laughter\, and dancing! This magical night will give you and your daughter a chance to bond and create memories that will last a lifetime.
X-ALT-DESC;FMTTYPE=text/html:<span style="color: rgb(8\, 8\, 9)\; font-family: &quot\;Segoe UI Historic&quot\;\, &quot\;Segoe UI&quot\;\, Helvetica\, Arial\, sans-serif\; font-size: 15px\; white-space-collapse: preserve\;">Dads\, save the date for a fun night with your little girls making unforgettable memories filled with twirls\, laughter\, and dancing! This magical night will give you and your daughter a chance to bond and create memories that will last a lifetime.</span>
LOCATION:Southern Regional Technical College
UID:e.570.13321
SEQUENCE:3
DTSTAMP:20260423T202424Z
URL:https://business.moultriechamber.com/events/details/daddy-daughter-dance-13321
END:VEVENT

END:VCALENDAR
