BEGIN:VCALENDAR
VERSION:2.0
PRODID:-//ChamberMaster//Event Calendar 2.0//EN
METHOD:PUBLISH
X-PUBLISHED-TTL:P3D
REFRESH-INTERVAL:P3D
CALSCALE:GREGORIAN
BEGIN:VEVENT
DTSTART:20230204T220000Z
DTEND:20230205T010000Z
X-MICROSOFT-CDO-ALLDAYEVENT:FALSE
SUMMARY:Daddy Daughter Dance
DESCRIPTION:Serenity House is hosting our annual Daddy Daughter Dance Fundraiser at SRTC. Grand March at 5:00pm and the dance will immediately follow. We will have a DJ\, finger foods\, and a photographer for professional photos! Pre-sale tickets can be purchased at Ameris Bank (Main St.) or Georgia's Own Credit Union. Yes\, you can buy tickets at the door as well!
X-ALT-DESC;FMTTYPE=text/html:Serenity House is hosting our annual Daddy Daughter Dance Fundraiser at SRTC. Grand March at 5:00pm and the dance will immediately follow. We will have a DJ\, finger foods\, and a photographer for professional photos! Pre-sale tickets can be purchased at Ameris Bank (Main St.) or Georgia&#39\;s Own Credit Union. Yes\, you can buy tickets at the door as well!
LOCATION:Southern Regional Technical College
UID:e.570.13017
SEQUENCE:3
DTSTAMP:20260425T022053Z
URL:https://business.moultriechamber.com/events/details/daddy-daughter-dance-02-04-2023-13017
END:VEVENT

END:VCALENDAR
