BEGIN:VCALENDAR
VERSION:2.0
PRODID:-//ChamberMaster//Event Calendar 2.0//EN
METHOD:PUBLISH
X-PUBLISHED-TTL:P3D
REFRESH-INTERVAL:P3D
CALSCALE:GREGORIAN
BEGIN:VEVENT
DTSTART:20230620T143000Z
DTEND:20230620T160000Z
X-MICROSOFT-CDO-ALLDAYEVENT:FALSE
SUMMARY:Crescent Circus @ the Library
DESCRIPTION:Enjoy a fusion of magic and circus arts at the Moultrie Library for a one-of-a-kind interactive experience.
X-ALT-DESC;FMTTYPE=text/html:Enjoy a fusion of magic and circus arts at the Moultrie Library for a one-of-a-kind interactive experience.
LOCATION:Moultrie Library 204 5th St\, SE Moultrie\, GA
UID:e.570.13169
SEQUENCE:3
DTSTAMP:20260424T210415Z
URL:https://business.moultriechamber.com/events/details/crescent-circus-the-library-13169
END:VEVENT

END:VCALENDAR
