BEGIN:VCALENDAR
VERSION:2.0
PRODID:-//ChamberMaster//Event Calendar 2.0//EN
METHOD:PUBLISH
X-PUBLISHED-TTL:P3D
REFRESH-INTERVAL:P3D
CALSCALE:GREGORIAN
BEGIN:VEVENT
DTSTART:20230620T220000Z
DTEND:20230620T230000Z
X-MICROSOFT-CDO-ALLDAYEVENT:FALSE
SUMMARY:Crescent Circus at Main Street Park
DESCRIPTION:Join us for The Crescent Circus Performance at main Street Park June 20th at 6pm!
X-ALT-DESC;FMTTYPE=text/html:Join us for The Crescent Circus Performance at main Street Park June 20th at 6pm!
LOCATION:Main Street Park
UID:e.570.13162
SEQUENCE:3
DTSTAMP:20260424T210735Z
URL:https://business.moultriechamber.com/events/details/crescent-circus-at-main-street-park-13162
END:VEVENT

END:VCALENDAR
