BEGIN:VCALENDAR
VERSION:2.0
PRODID:-//ChamberMaster//Event Calendar 2.0//EN
METHOD:PUBLISH
X-PUBLISHED-TTL:P3D
REFRESH-INTERVAL:P3D
CALSCALE:GREGORIAN
BEGIN:VEVENT
DTSTART:20230629T200000Z
DTEND:20230629T210000Z
X-MICROSOFT-CDO-ALLDAYEVENT:FALSE
SUMMARY:Crafternoon @ the Doerun Library
DESCRIPTION:Beat the afternoon heat with a fun craft activity at the Doerun Library.
X-ALT-DESC;FMTTYPE=text/html:Beat the afternoon heat with a fun craft activity at the Doerun Library.
LOCATION:Doerun Municipal Library 185 N Freeman St Doerun\, Ga
UID:e.570.13139
SEQUENCE:3
DTSTAMP:20260424T211004Z
URL:https://business.moultriechamber.com/events/details/crafternoon-the-doerun-library-06-29-2023-13139
END:VEVENT

END:VCALENDAR
