BEGIN:VCALENDAR
VERSION:2.0
PRODID:-//ChamberMaster//Event Calendar 2.0//EN
METHOD:PUBLISH
X-PUBLISHED-TTL:P3D
REFRESH-INTERVAL:P3D
CALSCALE:GREGORIAN
BEGIN:VEVENT
DTSTART:20220622T143000Z
DTEND:20220622T153000Z
X-MICROSOFT-CDO-ALLDAYEVENT:FALSE
SUMMARY:Craft ‘n Movie The Spongebob Movie
DESCRIPTION:Craft 'n Movie Enjoy watching ocean-themed family favorites on a big screen while making a craft that goes with the story! Today\, the movie is "The Spongebob Movie."
X-ALT-DESC;FMTTYPE=text/html:Craft &lsquo\;n Movie&mdash\;Enjoy watching ocean-themed family favorites on a big screen while making a craft that goes with the story! Today\, the movie is &quot\;The Spongebob Movie.&quot\;
LOCATION:Moultrie-Colquitt Library System 504 5th Street\, SE Moultrie\, Ga.
UID:e.570.12913
SEQUENCE:3
DTSTAMP:20260425T140718Z
URL:https://business.moultriechamber.com/events/details/craft-n-movie-the-spongebob-movie-12913
END:VEVENT

END:VCALENDAR
