BEGIN:VCALENDAR
VERSION:2.0
PRODID:-//ChamberMaster//Event Calendar 2.0//EN
METHOD:PUBLISH
X-PUBLISHED-TTL:P3D
REFRESH-INTERVAL:P3D
CALSCALE:GREGORIAN
BEGIN:VEVENT
DTSTART:20231118T130000Z
DTEND:20231118T170000Z
X-MICROSOFT-CDO-ALLDAYEVENT:FALSE
SUMMARY:CPR\, First Aid\, AED Training
DESCRIPTION:Because you might need to save a life!
X-ALT-DESC;FMTTYPE=text/html:Because you might need to save a life!
LOCATION:Tommy Meredith Gym
UID:e.570.13185
SEQUENCE:3
DTSTAMP:20260424T150336Z
URL:https://business.moultriechamber.com/events/details/cpr-first-aid-aed-training-13185
END:VEVENT

END:VCALENDAR
