BEGIN:VCALENDAR
VERSION:2.0
PRODID:-//ChamberMaster//Event Calendar 2.0//EN
METHOD:PUBLISH
X-PUBLISHED-TTL:P3D
REFRESH-INTERVAL:P3D
CALSCALE:GREGORIAN
BEGIN:VEVENT
DTSTART:20251101T130000Z
DTEND:20251101T180000Z
X-MICROSOFT-CDO-ALLDAYEVENT:FALSE
SUMMARY:CPR Class - MCCPRA
DESCRIPTION:Learn lifesaving skills that can make a difference in an emergency. This CPR Certification Course\, hosted by the Moultrie-Colquitt County Parks & Recreation Authority\, provides hands-on training and step-by-step instruction on how to respond effectively to cardiac and breathing emergencies.\n\nParticipants will gain confidence in performing CPR and using an AED through interactive practice and professional guidance. This class is ideal for individuals\, caregivers\, and professionals who want to be prepared to act when it matters most.
X-ALT-DESC;FMTTYPE=text/html:<p data-end="551" data-start="254"><br />\n<span style="font-size:16px\;">Learn lifesaving skills that can make a difference in an emergency. This <strong data-end="355" data-start="327">CPR Certification Course</strong>\, hosted by the Moultrie-Colquitt County Parks &amp\; Recreation Authority\, provides hands-on training and step-by-step instruction on how to respond effectively to cardiac and breathing emergencies.</span></p>\n\n<p data-end="799" data-start="553"><span style="font-size:16px\;">Participants will gain confidence in performing CPR and using an AED through interactive practice and professional guidance. This class is ideal for individuals\, caregivers\, and professionals who want to be prepared to act when it matters most.</span></p>\n
LOCATION:Ryce Community Center 305 7th St NW
UID:e.570.13443
SEQUENCE:3
DTSTAMP:20260423T162356Z
URL:https://business.moultriechamber.com/events/details/cpr-class-mccpra-13443
END:VEVENT

END:VCALENDAR
