BEGIN:VCALENDAR
VERSION:2.0
PRODID:-//ChamberMaster//Event Calendar 2.0//EN
METHOD:PUBLISH
X-PUBLISHED-TTL:P3D
REFRESH-INTERVAL:P3D
CALSCALE:GREGORIAN
BEGIN:VEVENT
DTSTART:20250125T230000Z
DTEND:20250126T020000Z
X-MICROSOFT-CDO-ALLDAYEVENT:FALSE
SUMMARY:Cosmic Pickleball Tournament at MCCPRA
DESCRIPTION:Get ready for an out-of-this-world pickleball experience! Join us on Saturday\, January 25th\, from 6 PM to 9 PM\, for our Cosmic Pickleball Tournament an evening of fun\, competition\, and glowing action under the lights.\n\nWhether you're a seasoned player or just looking for a fun night with friends\, this unique event promises to be a blast!
X-ALT-DESC;FMTTYPE=text/html:<div class="x11i5rnm xat24cr x1mh8g0r x1vvkbs xtlvy1s" style="margin: 0.5em 0px 0px\; overflow-wrap: break-word\; font-family: &quot\;Segoe UI Historic&quot\;\, &quot\;Segoe UI&quot\;\, Helvetica\, Arial\, sans-serif\; color: rgb(8\, 8\, 9)\; font-size: 15px\;"><span style="font-size:14px\;">Get ready for an out-of-this-world pickleball experience! Join us on Saturday\, January 25th\, from 6 PM to 9 PM\, for our Cosmic Pickleball Tournament&mdash\;an evening of fun\, competition\, and glowing action under the lights.</span></div>\n\n<div class="x11i5rnm xat24cr x1mh8g0r x1vvkbs xtlvy1s" style="margin: 0.5em 0px 0px\; overflow-wrap: break-word\; font-family: &quot\;Segoe UI Historic&quot\;\, &quot\;Segoe UI&quot\;\, Helvetica\, Arial\, sans-serif\; color: rgb(8\, 8\, 9)\; font-size: 15px\;"><span style="font-size:14px\;">Whether you&#39\;re a seasoned player or just looking for a fun night with friends\, this unique event promises to be a blast!</span></div>\n
LOCATION:Tommy Meredith Gym - 1100 5th Street SW Moultrie\, GA 31768
UID:e.570.13328
SEQUENCE:3
DTSTAMP:20260423T214029Z
URL:https://business.moultriechamber.com/events/details/cosmic-pickleball-tournament-at-mccpra-13328
END:VEVENT

END:VCALENDAR
