BEGIN:VCALENDAR
VERSION:2.0
PRODID:-//ChamberMaster//Event Calendar 2.0//EN
METHOD:PUBLISH
X-PUBLISHED-TTL:P3D
REFRESH-INTERVAL:P3D
CALSCALE:GREGORIAN
BEGIN:VEVENT
DTSTART:20240104T210000Z
DTEND:20240125T230000Z
X-MICROSOFT-CDO-ALLDAYEVENT:FALSE
SUMMARY:Cooking with Connie
DESCRIPTION:Each Thursday in January students ages 10-15 will gather in the kitchen at the Ryce Center to prepare a varity of dishes including Bread pizzas and Quesadillas\, Chicken Pockets\, Casseroles and desserts.
X-ALT-DESC;FMTTYPE=text/html:Each Thursday in January students ages 10-15 will gather in the kitchen at the Ryce Center to prepare a varity of dishes including Bread pizzas and Quesadillas\, Chicken Pockets\, Casseroles and desserts.
LOCATION:Ryce Community Center 305 7th St NW
UID:e.570.13219
SEQUENCE:3
DTSTAMP:20260424T122632Z
URL:https://business.moultriechamber.com/events/details/cooking-with-connie-01-04-2024-13219
END:VEVENT

END:VCALENDAR
