BEGIN:VCALENDAR
VERSION:2.0
PRODID:-//ChamberMaster//Event Calendar 2.0//EN
METHOD:PUBLISH
X-PUBLISHED-TTL:P3D
REFRESH-INTERVAL:P3D
CALSCALE:GREGORIAN
BEGIN:VEVENT
DTSTART:20240105T180000Z
DTEND:20240105T220000Z
X-MICROSOFT-CDO-ALLDAYEVENT:FALSE
SUMMARY:Cooking for One or Two
DESCRIPTION:Participants will collaborate on prepping 5 freezer to microwave/oven meals to take home for future use.
X-ALT-DESC;FMTTYPE=text/html:Participants will collaborate on prepping 5 freezer to microwave/oven meals to take home for future use.
LOCATION:Ryce Community Center 305 7th St NW
UID:e.570.13220
SEQUENCE:3
DTSTAMP:20260424T122550Z
URL:https://business.moultriechamber.com/events/details/cooking-for-one-or-two-13220
END:VEVENT

END:VCALENDAR
