BEGIN:VCALENDAR
VERSION:2.0
PRODID:-//ChamberMaster//Event Calendar 2.0//EN
METHOD:PUBLISH
X-PUBLISHED-TTL:P3D
REFRESH-INTERVAL:P3D
CALSCALE:GREGORIAN
BEGIN:VEVENT
DTSTART:20230609T143000Z
DTEND:20230609T150000Z
X-MICROSOFT-CDO-ALLDAYEVENT:FALSE
SUMMARY:Cookies & Bookies @ the Moultrie Library
DESCRIPTION:Bring the family and leave the snacks to us. We'll discuss a different book and theme each week and do a fun extension activity
X-ALT-DESC;FMTTYPE=text/html:Bring the family and leave the snacks to us. We&rsquo\;ll discuss a different book and theme each week and do a fun extension activity
LOCATION:Moultrie Library 204 5th Ave\, SW Moultrie\, Ga
UID:e.570.13142
SEQUENCE:3
DTSTAMP:20260424T210933Z
URL:https://business.moultriechamber.com/events/details/cookies-bookies-the-moultrie-library-13142
END:VEVENT

END:VCALENDAR
