BEGIN:VCALENDAR
VERSION:2.0
PRODID:-//ChamberMaster//Event Calendar 2.0//EN
METHOD:PUBLISH
X-PUBLISHED-TTL:P3D
REFRESH-INTERVAL:P3D
CALSCALE:GREGORIAN
BEGIN:VEVENT
DTSTART:20231111T140000Z
DTEND:20231111T210000Z
X-MICROSOFT-CDO-ALLDAYEVENT:FALSE
SUMMARY:Cookie Baking with Connie
DESCRIPTION:2 Sessions will be offered 9am-12pm & 1pm-4pm Ages 10-15 yrs. $10 participant Max of 8 per session Will work in teams to mix cut and bake sugar cookies\, chocolate chip cookies and oatmeal cookies.
X-ALT-DESC;FMTTYPE=text/html:2 Sessions will be offered 9am-12pm &amp\; 1pm-4pm Ages 10-15 yrs. $10 participant Max of 8 per session Will work in teams to mix cut and bake sugar cookies\, chocolate chip cookies and oatmeal cookies.
LOCATION:Ryce Community Center
UID:e.570.13195
SEQUENCE:3
DTSTAMP:20260424T151056Z
URL:https://business.moultriechamber.com/events/details/cookie-baking-with-connie-11-11-2023-13195
END:VEVENT

END:VCALENDAR
