BEGIN:VCALENDAR
VERSION:2.0
PRODID:-//ChamberMaster//Event Calendar 2.0//EN
METHOD:PUBLISH
X-PUBLISHED-TTL:P3D
REFRESH-INTERVAL:P3D
CALSCALE:GREGORIAN
BEGIN:VEVENT
DTSTART:20230909T140000Z
DTEND:20230909T180000Z
X-MICROSOFT-CDO-ALLDAYEVENT:FALSE
SUMMARY:Constitution Celebration
DESCRIPTION:During Second Saturday events on Courthouse Square\, DAR members in Colonial attire explaining the importance of the U. S. Constitution. Contact MoultrieDAR@gmail.com for more information.
X-ALT-DESC;FMTTYPE=text/html:During Second Saturday events on Courthouse Square\, DAR members in Colonial attire explaining the importance of the U. S. Constitution. Contact MoultrieDAR@gmail.com for more information.
LOCATION:Courthouse Square
UID:e.570.13176
SEQUENCE:3
DTSTAMP:20260424T171411Z
URL:https://business.moultriechamber.com/events/details/constitution-celebration-13176
END:VEVENT

END:VCALENDAR
