BEGIN:VCALENDAR
VERSION:2.0
PRODID:-//ChamberMaster//Event Calendar 2.0//EN
METHOD:PUBLISH
X-PUBLISHED-TTL:P3D
REFRESH-INTERVAL:P3D
CALSCALE:GREGORIAN
BEGIN:VEVENT
DTSTART:20250913T113000Z
DTEND:20250913T180000Z
X-MICROSOFT-CDO-ALLDAYEVENT:FALSE
SUMMARY:Community Yard Sale - Live Oak Storage
DESCRIPTION:Everyone is invited to the Community Yard Sale at Live Oak Self Storage on Saturday\, September 13\, from 7:30 a.m. to 2:00 p.m. at 1802 Holmes Drive\, Moultrie\, GA.\n\nBe a buyer or a seller! Current tenants can participate for free\, while non-tenants can reserve a selling spot for just $25. Don't miss fun raffles (including a Roku TV giveaway)\, local food trucks\, and plenty of opportunities to find hidden treasures.\n\nAll proceeds from yard sale space rentals will be donated to United Way of Colquitt County\, supporting programs that strengthen education\, health\, and financial stability for families in need.
X-ALT-DESC;FMTTYPE=text/html:<p data-end="300" data-start="102"><br />\n<span style="font-size:18px\;">Everyone is invited to the <em data-end="199" data-start="153">Community Yard Sale at Live Oak Self Storage</em> on <strong data-end="258" data-start="203">Saturday\, September 13\, from 7:30 a.m. to 2:00 p.m.</strong> at <strong data-end="297" data-start="262">1802 Holmes Drive\, Moultrie\, GA</strong>.</span></p>\n\n<p data-end="556" data-start="302"><span style="font-size:18px\;">Be a buyer or a seller! Current tenants can participate for free\, while non-tenants can reserve a selling spot for just $25. Don&rsquo\;t miss fun raffles (including a Roku TV giveaway)\, local food trucks\, and plenty of opportunities to find hidden treasures.</span></p>\n\n<p data-end="756" data-start="558"><span style="font-size:18px\;">All proceeds from yard sale space rentals will be donated to <strong data-end="652" data-start="619">United Way of Colquitt County</strong>\, supporting programs that strengthen education\, health\, and financial stability for families in need.</span></p>\n
LOCATION:Live Oak Storage 1802 Holmes Drive\, Moultrie\, GA.
UID:e.570.13403
SEQUENCE:3
DTSTAMP:20260423T141019Z
URL:https://business.moultriechamber.com/events/details/community-yard-sale-live-oak-storage-13403
END:VEVENT

END:VCALENDAR
