BEGIN:VCALENDAR
VERSION:2.0
PRODID:-//ChamberMaster//Event Calendar 2.0//EN
METHOD:PUBLISH
X-PUBLISHED-TTL:P3D
REFRESH-INTERVAL:P3D
CALSCALE:GREGORIAN
BEGIN:VEVENT
DTSTART:20230715T140000Z
DTEND:20230715T170000Z
X-MICROSOFT-CDO-ALLDAYEVENT:FALSE
SUMMARY:Community Dance Party
DESCRIPTION:Get out\, get up\, and get moving with DEA's Educational Foundation's Youth Dance Instructors\, DJ Dollar Bill\, and a cross section of local dance studios. Discover extracurricular opportunities in our region such as dance studios\, sports leagues\, horseback riding lessons\, after school programs\, summer camps\, scouts\, and more. DEA Educational Foundation leaders give families tools to discuss making wise choices\, drug misuse\, and living a healthy lifestyle.
X-ALT-DESC;FMTTYPE=text/html:Get out\, get up\, and get moving with DEA&rsquo\;s Educational Foundation&rsquo\;s Youth Dance Instructors\, DJ Dollar Bill\, and a cross section of local dance studios. Discover extracurricular opportunities in our region such as dance studios\, sports leagues\, horseback riding lessons\, after school programs\, summer camps\, scouts\, and more. DEA Educational Foundation leaders give families tools to discuss making wise choices\, drug misuse\, and living a healthy lifestyle.
LOCATION:Thronateeska Heritage Center\, 100 W Roosevelt Avenue\, Albany\, GA
UID:e.570.13182
SEQUENCE:3
DTSTAMP:20260424T193019Z
URL:https://business.moultriechamber.com/events/details/community-dance-party-13182
END:VEVENT

END:VCALENDAR
